BEGIN:VCALENDAR
VERSION:2.0
PRODID:icalendar-ruby
CALSCALE:GREGORIAN
METHOD:PUBLISH
BEGIN:VEVENT
DTSTAMP:20260424T135144Z
UID:84-1376530@bethesdabchurch.org
DTSTART:20260516T170000Z
DTEND:20260516T190000Z
CLASS:PUBLIC
CREATED:20260324T174614
DESCRIPTION:Bring 3 dollar store items and play 3 cards. Fun\, fellowship a
 nd prizes.
LAST-MODIFIED:20260324T174614
LOCATION:Fellowship Hall
SUMMARY:BINGO
URL;VALUE=URI:https://www.bethesdabchurch.org/events/bingo--84/2026-05-16
END:VEVENT
END:VCALENDAR
