BEGIN:VCALENDAR
VERSION:2.0
PRODID:icalendar-ruby
CALSCALE:GREGORIAN
METHOD:PUBLISH
BEGIN:VEVENT
DTSTAMP:20260424T153612Z
UID:85-1376531@bethesdabchurch.org
DTSTART:20260523T120000Z
DTEND:20260523T160000Z
CLASS:PUBLIC
CREATED:20260324T174827
DESCRIPTION:
LAST-MODIFIED:20260324T174827
LOCATION:Church Wide
SUMMARY:Church Clean Up
URL;VALUE=URI:https://www.bethesdabchurch.org/events/church-clean-up/2026-0
 5-23
END:VEVENT
END:VCALENDAR
