BEGIN:VCALENDAR
VERSION:2.0
PRODID:icalendar-ruby
CALSCALE:GREGORIAN
METHOD:PUBLISH
BEGIN:VEVENT
DTSTAMP:20260419T135123Z
UID:83-1376529@bethesdabchurch.org
DTSTART:20260516T153000Z
DTEND:20260516T170000Z
CLASS:PUBLIC
CREATED:20260324T174430
DESCRIPTION:
LAST-MODIFIED:20260324T174430
LOCATION:Fellowship Hall
SUMMARY:Golden Oldies
URL;VALUE=URI:https://www.bethesdabchurch.org/events/golden-oldies--83/2026
 -05-16
END:VEVENT
END:VCALENDAR
