BEGIN:VCALENDAR
VERSION:2.0
PRODID:icalendar-ruby
CALSCALE:GREGORIAN
METHOD:PUBLISH
BEGIN:VEVENT
DTSTAMP:20260419T122315Z
UID:81-1376527@bethesdabchurch.org
DTSTART:20260511T220000Z
DTEND:20260512T000000Z
CLASS:PUBLIC
CREATED:20260324T173750
DESCRIPTION:
LAST-MODIFIED:20260324T173750
LOCATION:Fellowship Hall
SUMMARY:WMU- Women's Missionary Union
URL;VALUE=URI:https://www.bethesdabchurch.org/events/wmu-womens-missionary-
 union--81/2026-05-11
END:VEVENT
END:VCALENDAR
